BEGIN:VCALENDAR
VERSION:2.0
PRODID:-//Central St. Matthew UCC, New Orleans LA - ECPv6.15.20//NONSGML v1.0//EN
CALSCALE:GREGORIAN
METHOD:PUBLISH
X-ORIGINAL-URL:https://www.centralstmatthewucc.com
X-WR-CALDESC:Events for Central St. Matthew UCC, New Orleans LA
REFRESH-INTERVAL;VALUE=DURATION:PT1H
X-Robots-Tag:noindex
X-PUBLISHED-TTL:PT1H
BEGIN:VTIMEZONE
TZID:America/Chicago
BEGIN:DAYLIGHT
TZOFFSETFROM:-0600
TZOFFSETTO:-0500
TZNAME:CDT
DTSTART:20150308T080000
END:DAYLIGHT
BEGIN:STANDARD
TZOFFSETFROM:-0500
TZOFFSETTO:-0600
TZNAME:CST
DTSTART:20151101T070000
END:STANDARD
BEGIN:DAYLIGHT
TZOFFSETFROM:-0600
TZOFFSETTO:-0500
TZNAME:CDT
DTSTART:20160313T080000
END:DAYLIGHT
BEGIN:STANDARD
TZOFFSETFROM:-0500
TZOFFSETTO:-0600
TZNAME:CST
DTSTART:20161106T070000
END:STANDARD
BEGIN:DAYLIGHT
TZOFFSETFROM:-0600
TZOFFSETTO:-0500
TZNAME:CDT
DTSTART:20170312T080000
END:DAYLIGHT
BEGIN:STANDARD
TZOFFSETFROM:-0500
TZOFFSETTO:-0600
TZNAME:CST
DTSTART:20171105T070000
END:STANDARD
BEGIN:DAYLIGHT
TZOFFSETFROM:-0600
TZOFFSETTO:-0500
TZNAME:CDT
DTSTART:20180311T080000
END:DAYLIGHT
BEGIN:STANDARD
TZOFFSETFROM:-0500
TZOFFSETTO:-0600
TZNAME:CST
DTSTART:20181104T070000
END:STANDARD
END:VTIMEZONE
BEGIN:VEVENT
DTSTART;TZID=America/Chicago:20170119T100000
DTEND;TZID=America/Chicago:20170119T110000
DTSTAMP:20260422T173600
CREATED:20161222T190207Z
LAST-MODIFIED:20161222T190207Z
UID:4459-1484820000-1484823600@www.centralstmatthewucc.com
SUMMARY:January Daytime Book Club
DESCRIPTION:The CSM Daytime book club will not be meeting during the month of December so our next meeting will be 10 am on Thursday\, January 19\, 2017. The book we will be reading for the meeting is Cane River by Lalita Tademy. It is available at Amazon in Kindle for 7.99 and in paperback for 12.30. The New Orleans Library has 4 copies available and the Jefferson Parish library has 5 copies. \nPlease join us for discussion and fellowship.\nAll are invited.
URL:https://www.centralstmatthewucc.com/event/january-daytime-book-club/
CATEGORIES:Daytime Book Club
ATTACH;FMTTYPE=image/jpeg:https://www.centralstmatthewucc.com/wp-content/uploads/2016/12/cane-river-by-lalita-tademy-cover.jpg
END:VEVENT
BEGIN:VEVENT
DTSTART;TZID=America/Chicago:20161230T090000
DTEND;TZID=America/Chicago:20161230T170000
DTSTAMP:20260422T173600
CREATED:20161207T053133Z
LAST-MODIFIED:20161222T050858Z
UID:4359-1483088400-1483117200@www.centralstmatthewucc.com
SUMMARY:Holiday Camp 2016
DESCRIPTION:For children now enrolled in Kindergarten – 6th grade\nStories/Crafts/Music/ Games –\n9 am – noon – no charge\nAfter Care – Lunch/Movie/Activities – Noon – 3 pm\n$10 per child/day – $5 each additional child in the family\n\n\n\n\nCentral St. Matthew United Church of Christ\n1333 S. Carrollton Avenue\nNew Orleans\, LA 70118\n\n\n\nCentral St. Matthew United Church of Christ is pleased to offer a Holiday Camp during the 2016 Christmas break. The curriculum will include a study of Christmas stories which stress the meaning of the Christmas season\, illustrating the ideas of loving\, giving\, and sharing with each other. The morning program is at no charge and will include puzzles\, crafts\, music\, games and snacks. We are also offering an aftercare program from noon till 3 pm for a fee which will provide lunch\, a movie and activities. We have a limited number of spaces so sign up as soon as you can. It is always a great time!\n\nDeadline for registration is Sunday morning\, December 25.\n\n\n\nClick Here to Download and Print the Registration Form\n\n\n\n\nReturn Registration Form To:\n\n[content_boxes layout=”clean-horizontal” columns=”2″ icon_align=”left” title_size=”” backgroundcolor=”#c5db95″ icon_circle=”fff” icon_circle_radius=”” iconcolor=”#fff” circlecolor=”#f1c40f” circlebordercolor=”#fff” circlebordercolorsize=”” outercirclebordercolor=”” outercirclebordercolorsize=”” icon_size=”” link_type=”” link_area=”” animation_delay=”” animation_offset=”” animation_type=”0″ animation_direction=”down” animation_speed=”0.1″ margin_top=”” margin_bottom=”” class=”” id=””]\n[content_box title=”Mail Registration Form To:” icon=”” backgroundcolor=”” iconcolor=”” circlecolor=”#f1c40f” circlebordercolor=”#fff” circlebordercolorsize=”” outercirclebordercolor=”” outercirclebordercolorsize=”” iconrotate=”” iconspin=”no” image=”” image_width=”35″ image_height=”35″ link=”” linktarget=”_self” linktext=”” animation_type=”0″ animation_direction=”down” animation_speed=”0.1″]Central St. Matthew UCC -Camp 1333 S. Carrollton Avenue New Orleans\, LA 70118 [/content_box]\n[content_box title=”OR Scan and Email to:” icon=”” backgroundcolor=”” iconcolor=”#fff” circlecolor=”#f1c40f” circlebordercolor=”” circlebordercolorsize=”” outercirclebordercolor=”#fff” outercirclebordercolorsize=”” iconrotate=”” iconspin=”no” image=”” image_width=”35″ image_height=”35″ link=”” linktarget=”_self” linktext=”” animation_type=”0″ animation_direction=”down” animation_speed=”0.1″]office@centralstmatthewucc.com with subject line: Holiday Camp[/content_box]\n[/content_boxes]
URL:https://www.centralstmatthewucc.com/event/holiday-camp-2016-3/
LOCATION:CSM 1333 S. Carrollton Ave\, 1333 S. Carrollton Ave.\, New Orleans\, LA\, 70118\, United States
CATEGORIES:Holiday Camp
ATTACH;FMTTYPE=image/jpeg:https://www.centralstmatthewucc.com/wp-content/uploads/2016/12/three-trees-e1481086850364.jpg
END:VEVENT
BEGIN:VEVENT
DTSTART;TZID=America/Chicago:20161229T090000
DTEND;TZID=America/Chicago:20161229T170000
DTSTAMP:20260422T173600
CREATED:20161207T052958Z
LAST-MODIFIED:20161222T050834Z
UID:4357-1483002000-1483030800@www.centralstmatthewucc.com
SUMMARY:Holidy Camp 2016
DESCRIPTION:For children now enrolled in Kindergarten – 6th grade\nStories/Crafts/Music/ Games –\n9 am – noon – no charge\nAfter Care – Lunch/Movie/Activities – Noon – 3 pm\n$10 per child/day – $5 each additional child in the family\n\n\n\n\nCentral St. Matthew United Church of Christ\n1333 S. Carrollton Avenue\nNew Orleans\, LA 70118\n\n\n\nCentral St. Matthew United Church of Christ is pleased to offer a Holiday Camp during the 2016 Christmas break. The curriculum will include a study of Christmas stories which stress the meaning of the Christmas season\, illustrating the ideas of loving\, giving\, and sharing with each other. The morning program is at no charge and will include puzzles\, crafts\, music\, games and snacks. We are also offering an aftercare program from noon till 3 pm for a fee which will provide lunch\, a movie and activities. We have a limited number of spaces so sign up as soon as you can. It is always a great time!\n\nDeadline for registration is Sunday morning\, December 25.\n\n\n\nClick Here to Download and Print the Registration Form\n\n\n\n\nReturn Registration Form To:\n\n[content_boxes layout=”clean-horizontal” columns=”2″ icon_align=”left” title_size=”” backgroundcolor=”#c5db95″ icon_circle=”fff” icon_circle_radius=”” iconcolor=”#fff” circlecolor=”#f1c40f” circlebordercolor=”#fff” circlebordercolorsize=”” outercirclebordercolor=”” outercirclebordercolorsize=”” icon_size=”” link_type=”” link_area=”” animation_delay=”” animation_offset=”” animation_type=”0″ animation_direction=”down” animation_speed=”0.1″ margin_top=”” margin_bottom=”” class=”” id=””]\n[content_box title=”Mail Registration Form To:” icon=”” backgroundcolor=”” iconcolor=”” circlecolor=”#f1c40f” circlebordercolor=”#fff” circlebordercolorsize=”” outercirclebordercolor=”” outercirclebordercolorsize=”” iconrotate=”” iconspin=”no” image=”” image_width=”35″ image_height=”35″ link=”” linktarget=”_self” linktext=”” animation_type=”0″ animation_direction=”down” animation_speed=”0.1″]Central St. Matthew UCC -Camp 1333 S. Carrollton Avenue New Orleans\, LA 70118 [/content_box]\n[content_box title=”OR Scan and Email to:” icon=”” backgroundcolor=”” iconcolor=”#fff” circlecolor=”#f1c40f” circlebordercolor=”” circlebordercolorsize=”” outercirclebordercolor=”#fff” outercirclebordercolorsize=”” iconrotate=”” iconspin=”no” image=”” image_width=”35″ image_height=”35″ link=”” linktarget=”_self” linktext=”” animation_type=”0″ animation_direction=”down” animation_speed=”0.1″]office@centralstmatthewucc.com with subject line: Holiday Camp[/content_box]\n[/content_boxes]
URL:https://www.centralstmatthewucc.com/event/holidy-camp-2016/
LOCATION:CSM 1333 S. Carrollton Ave\, 1333 S. Carrollton Ave.\, New Orleans\, LA\, 70118\, United States
CATEGORIES:Holiday Camp
ATTACH;FMTTYPE=image/jpeg:https://www.centralstmatthewucc.com/wp-content/uploads/2016/12/three-trees-e1481086850364.jpg
END:VEVENT
BEGIN:VEVENT
DTSTART;TZID=America/Chicago:20161228T090000
DTEND;TZID=America/Chicago:20161228T150000
DTSTAMP:20260422T173600
CREATED:20161207T052759Z
LAST-MODIFIED:20161222T050703Z
UID:4355-1482915600-1482937200@www.centralstmatthewucc.com
SUMMARY:Holiday Camp 2016
DESCRIPTION:For children now enrolled in Kindergarten – 6th grade\nStories/Crafts/Music/ Games –\n9 am – noon – no charge\nAfter Care – Lunch/Movie/Activities – Noon – 3 pm\n$10 per child/day – $5 each additional child in the family\n\n\n\n\nCentral St. Matthew United Church of Christ\n1333 S. Carrollton Avenue\nNew Orleans\, LA 70118\n\n\n\nCentral St. Matthew United Church of Christ is pleased to offer a Holiday Camp during the 2016 Christmas break. The curriculum will include a study of Christmas stories which stress the meaning of the Christmas season\, illustrating the ideas of loving\, giving\, and sharing with each other. The morning program is at no charge and will include puzzles\, crafts\, music\, games and snacks. We are also offering an aftercare program from noon till 3 pm for a fee which will provide lunch\, a movie and activities. We have a limited number of spaces so sign up as soon as you can. It is always a great time!\n\nDeadline for registration is Sunday morning\, December 25.\n\n\n\nClick Here to Download and Print the Registration Form\n\n\n\n\nReturn Registration Form To:\n\n[content_boxes layout=”clean-horizontal” columns=”2″ icon_align=”left” title_size=”” backgroundcolor=”#c5db95″ icon_circle=”fff” icon_circle_radius=”” iconcolor=”#fff” circlecolor=”#f1c40f” circlebordercolor=”#fff” circlebordercolorsize=”” outercirclebordercolor=”” outercirclebordercolorsize=”” icon_size=”” link_type=”” link_area=”” animation_delay=”” animation_offset=”” animation_type=”0″ animation_direction=”down” animation_speed=”0.1″ margin_top=”” margin_bottom=”” class=”” id=””]\n[content_box title=”Mail Registration Form To:” icon=”” backgroundcolor=”” iconcolor=”” circlecolor=”#f1c40f” circlebordercolor=”#fff” circlebordercolorsize=”” outercirclebordercolor=”” outercirclebordercolorsize=”” iconrotate=”” iconspin=”no” image=”” image_width=”35″ image_height=”35″ link=”” linktarget=”_self” linktext=”” animation_type=”0″ animation_direction=”down” animation_speed=”0.1″]Central St. Matthew UCC -Camp 1333 S. Carrollton Avenue New Orleans\, LA 70118 [/content_box]\n[content_box title=”OR Scan and Email to:” icon=”” backgroundcolor=”” iconcolor=”#fff” circlecolor=”#f1c40f” circlebordercolor=”” circlebordercolorsize=”” outercirclebordercolor=”#fff” outercirclebordercolorsize=”” iconrotate=”” iconspin=”no” image=”” image_width=”35″ image_height=”35″ link=”” linktarget=”_self” linktext=”” animation_type=”0″ animation_direction=”down” animation_speed=”0.1″]office@centralstmatthewucc.com with subject line: Holiday Camp[/content_box]\n[/content_boxes]
URL:https://www.centralstmatthewucc.com/event/holiday-camp-2016-2/
LOCATION:CSM 1333 S. Carrollton Ave\, 1333 S. Carrollton Ave.\, New Orleans\, LA\, 70118\, United States
CATEGORIES:Holiday Camp
ATTACH;FMTTYPE=image/jpeg:https://www.centralstmatthewucc.com/wp-content/uploads/2016/12/three-trees-e1481086850364.jpg
END:VEVENT
BEGIN:VEVENT
DTSTART;TZID=America/Chicago:20161227T090000
DTEND;TZID=America/Chicago:20161227T150000
DTSTAMP:20260422T173600
CREATED:20161207T052510Z
LAST-MODIFIED:20161222T050600Z
UID:4329-1482829200-1482850800@www.centralstmatthewucc.com
SUMMARY:Holiday Camp 2016
DESCRIPTION:For children now enrolled in Kindergarten – 6th grade\nStories/Crafts/Music/ Games –\n9 am – noon – no charge\nAfter Care – Lunch/Movie/Activities – Noon – 3 pm\n$10 per child/day – $5 each additional child in the family\n\n\n\n\nCentral St. Matthew United Church of Christ\n1333 S. Carrollton Avenue\nNew Orleans\, LA 70118\n\n\n\nCentral St. Matthew United Church of Christ is pleased to offer a Holiday Camp during the 2016 Christmas break. The curriculum will include a study of Christmas stories which stress the meaning of the Christmas season\, illustrating the ideas of loving\, giving\, and sharing with each other. The morning program is at no charge and will include puzzles\, crafts\, music\, games and snacks. We are also offering an aftercare program from noon till 3 pm for a fee which will provide lunch\, a movie and activities. We have a limited number of spaces so sign up as soon as you can. It is always a great time!\n\nDeadline for registration is Sunday morning\, December 25.\n\n\n\nClick Here to Download and Print the Registration Form\n\n\n\n\nReturn Registration Form To:\n\n[content_boxes layout=”clean-horizontal” columns=”2″ icon_align=”left” title_size=”” backgroundcolor=”#c5db95″ icon_circle=”fff” icon_circle_radius=”” iconcolor=”#fff” circlecolor=”#f1c40f” circlebordercolor=”#fff” circlebordercolorsize=”” outercirclebordercolor=”” outercirclebordercolorsize=”” icon_size=”” link_type=”” link_area=”” animation_delay=”” animation_offset=”” animation_type=”0″ animation_direction=”down” animation_speed=”0.1″ margin_top=”” margin_bottom=”” class=”” id=””]\n[content_box title=”Mail Registration Form To:” icon=”” backgroundcolor=”” iconcolor=”” circlecolor=”#f1c40f” circlebordercolor=”#fff” circlebordercolorsize=”” outercirclebordercolor=”” outercirclebordercolorsize=”” iconrotate=”” iconspin=”no” image=”” image_width=”35″ image_height=”35″ link=”” linktarget=”_self” linktext=”” animation_type=”0″ animation_direction=”down” animation_speed=”0.1″]Central St. Matthew UCC -Camp 1333 S. Carrollton Avenue New Orleans\, LA 70118 [/content_box]\n[content_box title=”OR Scan and Email to:” icon=”” backgroundcolor=”” iconcolor=”#fff” circlecolor=”#f1c40f” circlebordercolor=”” circlebordercolorsize=”” outercirclebordercolor=”#fff” outercirclebordercolorsize=”” iconrotate=”” iconspin=”no” image=”” image_width=”35″ image_height=”35″ link=”” linktarget=”_self” linktext=”” animation_type=”0″ animation_direction=”down” animation_speed=”0.1″]office@centralstmatthewucc.com with subject line: Holiday Camp[/content_box]\n[/content_boxes]
URL:https://www.centralstmatthewucc.com/event/holiday-camp-2016/
LOCATION:CSM 1333 S. Carrollton Ave\, 1333 S. Carrollton Ave.\, New Orleans\, LA\, 70118\, United States
CATEGORIES:Holiday Camp
ATTACH;FMTTYPE=image/jpeg:https://www.centralstmatthewucc.com/wp-content/uploads/2016/12/three-trees-e1481086850364.jpg
ORGANIZER;CN="":MAILTO:office@centralstmatthewucc.com
END:VEVENT
BEGIN:VEVENT
DTSTART;TZID=America/Chicago:20161225T100000
DTEND;TZID=America/Chicago:20161225T110000
DTSTAMP:20260422T173600
CREATED:20161222T164918Z
LAST-MODIFIED:20161222T164918Z
UID:4401-1482660000-1482663600@www.centralstmatthewucc.com
SUMMARY:Christmas Day Worship
DESCRIPTION:No Sunday School
URL:https://www.centralstmatthewucc.com/event/christmas-day-worship/
LOCATION:CSM 1333 S. Carrollton Ave\, 1333 S. Carrollton Ave.\, New Orleans\, LA\, 70118\, United States
CATEGORIES:Worship
END:VEVENT
BEGIN:VEVENT
DTSTART;TZID=America/Chicago:20161224T180000
DTEND;TZID=America/Chicago:20161224T190000
DTSTAMP:20260422T173600
CREATED:20161222T164751Z
LAST-MODIFIED:20161222T170232Z
UID:4399-1482602400-1482606000@www.centralstmatthewucc.com
SUMMARY:Christmas Eve Family Worship
DESCRIPTION:
URL:https://www.centralstmatthewucc.com/event/christmas-eve-family-worship/
LOCATION:CSM 1333 S. Carrollton Ave\, 1333 S. Carrollton Ave.\, New Orleans\, LA\, 70118\, United States
CATEGORIES:Worship
END:VEVENT
BEGIN:VEVENT
DTSTART;TZID=America/Chicago:20161204T193000
DTEND;TZID=America/Chicago:20161115T210000
DTSTAMP:20260422T173600
CREATED:20161115T040525Z
LAST-MODIFIED:20161115T042616Z
UID:4300-1480879800-1479243600@www.centralstmatthewucc.com
SUMMARY:Dillard University Holiday Concert
DESCRIPTION:The choir will perform with an orchestra and other special guests and soloists will accompany the 60-voice choir. The concert is free and open to the public. The concert will be held in Lawless Memorial Chapel on Dillard University’s campus located at 2601 Gentilly Blvd\, New Orleans\, LA. \nSeating is limited and is on a first come basis. Doors open at 6:45 p.m.
URL:https://www.centralstmatthewucc.com/event/dillard-university-holiday-concert/
LOCATION:Dillard University\, 2601 Gentilly Blvd\, New Orleans\, LA\, United States
CATEGORIES:Music
END:VEVENT
BEGIN:VEVENT
DTSTART;TZID=America/Chicago:20161204T100000
DTEND;TZID=America/Chicago:20161204T120000
DTSTAMP:20260422T173600
CREATED:20161115T040150Z
LAST-MODIFIED:20161115T040150Z
UID:4298-1480845600-1480852800@www.centralstmatthewucc.com
SUMMARY:South Central Conference Minister\, Dr. Don Longbottom Preaches
DESCRIPTION:We will be welcoming Dr. Don Longbottom\, South Central Conference Minister\, who will be preaching. This will Dr. Longbottom’s first visit to Central St. Matthew and we want to give him a good CSM welcome. \nFollowing worship there will be a “Taste of New Orleans Luncheon.” Please plan to attend!
URL:https://www.centralstmatthewucc.com/event/south-central-conference-minister-dr-don-longbottom-preaches/
LOCATION:CSM 1333 S. Carrollton Ave\, 1333 S. Carrollton Ave.\, New Orleans\, LA\, 70118\, United States
CATEGORIES:Worship
END:VEVENT
BEGIN:VEVENT
DTSTART;TZID=America/Chicago:20161120T110000
DTEND;TZID=America/Chicago:20161115T170000
DTSTAMP:20260422T173600
CREATED:20161115T044737Z
LAST-MODIFIED:20161115T044808Z
UID:4310-1479639600-1479229200@www.centralstmatthewucc.com
SUMMARY:Congregational Chili Lunch And Advent Workshop
DESCRIPTION:The Christian Education Committee is pleased to sponsor a Chili lunch for a free will offering\, followed by an Advent Workshop where you can combine fellowship and learning new crafts as we prepare for the Christmas Season.  So mark your calendars and plan to attend this really fun event. \nFollowing the Sunday morning service.
URL:https://www.centralstmatthewucc.com/event/congregational-chili-lunch-and-advent-workshop/
LOCATION:CSM 1333 S. Carrollton Ave\, 1333 S. Carrollton Ave.\, New Orleans\, LA\, 70118\, United States
CATEGORIES:Fellowship,Food
END:VEVENT
BEGIN:VEVENT
DTSTART;TZID=America/Chicago:20161120T100000
DTEND;TZID=America/Chicago:20161120T110000
DTSTAMP:20260422T173600
CREATED:20161115T034906Z
LAST-MODIFIED:20161115T050313Z
UID:4296-1479636000-1479639600@www.centralstmatthewucc.com
SUMMARY:Deadline for Thanksgiving Baskets Contributions
DESCRIPTION:This year the Diaconate is sponsoring Thanksgiving baskets for needy families. Pick up a Brown Paper Bag in the Narthex. Each bag has a highlighted item to purchase and return in the bag by November 20th. Thank you for your generosity.
URL:https://www.centralstmatthewucc.com/event/thanksgiving-baskets/
CATEGORIES:Community,Outreach
END:VEVENT
BEGIN:VEVENT
DTSTART;TZID=America/Chicago:20161120T100000
DTEND;TZID=America/Chicago:20161120T100000
DTSTAMP:20260422T173600
CREATED:20161115T043057Z
LAST-MODIFIED:20161115T043849Z
UID:4305-1479636000-1479636000@www.centralstmatthewucc.com
SUMMARY:Stewardship Commitment Sunday
DESCRIPTION:“So let each one give as he purposes in his heart\, not grudgingly or of necessity; for God loves a cheerful giver.”               2 Corinthians 9:7 \nIn this verse\, Paul takes on the delicate subject of giving money to the work of the Lord. His phrase in English\, “as he purposes\,” is a single Greek term that only appears here in the Bible. It means a premeditated\, predetermined plan of action that is voluntarily done from the heart\, not impulsively. In other words giving should not be forced it should be from the heart. Giving should be quietly decided or determined within ourselves\, between God and us. God loves a happy\, cheerful\, hilarious giver. \nOn Sunday\, November 13th we shall take some time to consider what it means for us to be stewards today. During the next week everyone will be encouraged to prayerfully consider your gift of time\, talent\, and treasure to Christ’s work here at CSM for next year. On Sunday\, November 20th\, we will receive your commitment card for 2017.
URL:https://www.centralstmatthewucc.com/event/stewardship-commitment-sunday/
LOCATION:CSM 1333 S. Carrollton Ave\, 1333 S. Carrollton Ave.\, New Orleans\, LA\, 70118\, United States
CATEGORIES:Stewardship
ATTACH;FMTTYPE=image/png:https://www.centralstmatthewucc.com/wp-content/uploads/2016/11/stewardship.png
END:VEVENT
BEGIN:VEVENT
DTSTART;TZID=America/Chicago:20161115T100000
DTEND;TZID=America/Chicago:20161115T170000
DTSTAMP:20260422T173600
CREATED:20161115T045615Z
LAST-MODIFIED:20161115T045949Z
UID:4312-1479204000-1479229200@www.centralstmatthewucc.com
SUMMARY:CSM Daytime Book Club
DESCRIPTION:The next meeting of the Central St. Matthew Daytime Book Club will be at 10 am on Thursday\, November 17 at 2410 Adams Street.  All are welcome!  For our meeting we will be reading Plainsong by Kent Haruf. The book is available at Amazon in Kindle and paperback and copies are available at both the New Orleans Public Library and the Jefferson Parish Library.  Below is a citation for the National Book Award. \n“Ambitious\, but never seeming so\, Kent Haruf reveals a whole community as he interweaves the stories of a pregnant high school girl\, a lonely teacher\, a pair of boys abandoned by their mother\, and a couple of crusty bachelor farmers. From simple elements\, Haruf achieves a novel of wisdom and grace–a narrative that builds in strength and feeling until\, as in a choral chant\, the voices in the book surround\, transport\, and lift the reader off the ground.” \nHappy Reading!!!
URL:https://www.centralstmatthewucc.com/event/csm-daytime-book-club/
LOCATION:2410 Adams Street\, New Orleans\, LA\, United States
CATEGORIES:Fellowship
END:VEVENT
BEGIN:VEVENT
DTSTART;TZID=America/Chicago:20160924T033000
DTEND;TZID=America/Chicago:20160924T060000
DTSTAMP:20260422T173600
CREATED:20160828T085302Z
LAST-MODIFIED:20160828T085713Z
UID:3945-1474687800-1474696800@www.centralstmatthewucc.com
SUMMARY:Greater New Orleans CROP Walk
DESCRIPTION:Join the original Walk event in the United States! Fight hunger globally and in our local community. \nCROP Hunger Walks are community-wide events sponsored by Church World Service and organized by local congregations or groups to raise funds to end hunger at home and around the world. \nJoin Team CSM for our annual CROP Hunger Walk\nRegistration will begin 8:30 a.m. in front of St Charles Avenue Baptist Church and the walk which will be held in Audubon Park begins at 9:00 a.m. You may register online for Team CSM to walk\, or make a contribution\, or both. \nAbout the CROP Hunger Walk and CWS\nCROP Hunger Walks are community-wide events sponsored by Church World Service and organized by local congregations or groups to raise funds to end hunger at home and around the world. \nWhy should I register?\nHunger is one of the greatest injustices facing our world\, but it doesn’t have to be this way. Ending hunger is possible\, and it is possible in our lifetime. You can help make it happen. \nFor nearly half a century\, CROP Hunger Walks have ensured that more people worldwide have access to nutritious\, sustainable food sources. From combating droughts in Nicaragua to providing agricultural training in Indonesia to stocking shelves in hundreds of food pantries across the United States\, CROP Hunger Walks help end hunger by raising funds to support local food programs and the international anti-hunger work of Church World Service. \nStand with neighbors in your community who rely on food assistance programs. Partner with parents worldwide as they ensure a bright future for their children. Support those struggling in the face of grinding poverty and open up new doors of opportunity for them. \nTens of thousands of CROP Hunger Walkers are committed to building a hunger-free world. Join the movement! \nWhere do CROP Hunger Walk funds go?\nCROP Hunger Walks help to support the overall ministry of Church World Service\, especially grassroots\, hunger-fighting development efforts around the world. In addition\, each local CROP Hunger Walk can choose to return up to 25 percent of the funds it raises to hunger-fighting programs in its own community. \nCROP Hunger Walks help to provide food and water\, as well as resources that empower people to meet their own needs. From seeds and tools\, to wells and water systems\, to technical training and micro-enterprise loans\, the key is people working together to identify their own development priorities\, their strengths and their needs something CWS has learned through some 70 years of working in partnership around the world.
URL:https://www.centralstmatthewucc.com/event/greater-new-orleans-crop-walk/
LOCATION:St Charles Avenue Baptist Church & Audubon Park\, 7100 St Charles Avenue\, New Orleans\, LA\, 70118\, United States
CATEGORIES:Outreach
ATTACH;FMTTYPE=image/jpeg:https://www.centralstmatthewucc.com/wp-content/uploads/2016/08/cropwalk01-e1472356545108.jpg
END:VEVENT
BEGIN:VEVENT
DTSTART;VALUE=DATE:20160918
DTEND;VALUE=DATE:20160920
DTSTAMP:20260422T173600
CREATED:20160828T082332Z
LAST-MODIFIED:20160918T122054Z
UID:3939-1474160400-1474246799@www.centralstmatthewucc.com
SUMMARY:Celebration Sunday
DESCRIPTION:Mark your Calendar and plan to be present as we kick off our fall program. Learn about Adult and Children learning opportunities. Enjoy a meal following church and catch up with your friends. Invite someone to join you! \nJoin the Christian Education Committee in celebrating the arrival of fall and the beginning of a new program year as we kick off our programs for 2016-17 and share a meal with a Jambalaya Lunch after the worship service. Free will offering accepted. \nAfter lunch you can browse the Ministry Fair – with displays by the groups and organizations of the church.
URL:https://www.centralstmatthewucc.com/event/celebration-sunday/
LOCATION:CSM 1333 S. Carrollton Ave\, 1333 S. Carrollton Ave.\, New Orleans\, LA\, 70118\, United States
CATEGORIES:Community,Food,Outreach
ATTACH;FMTTYPE=image/jpeg:https://www.centralstmatthewucc.com/wp-content/uploads/2016/08/celebration_sunday-1.jpg
END:VEVENT
BEGIN:VEVENT
DTSTART;TZID=America/Chicago:20160827T050000
DTEND;TZID=America/Chicago:20160827T180000
DTSTAMP:20260422T173600
CREATED:20160828T081809Z
LAST-MODIFIED:20160828T081809Z
UID:3928-1472274000-1472320800@www.centralstmatthewucc.com
SUMMARY:CSM Men’s Fellowship Gathering
DESCRIPTION:Men\, due to transition taking place on our Carrollton Campus\, the CSM Men’s Fellowship  group will meet at St. Paul United Church of Christ\, 600 Eleonore Street\, New Orleans\, LA  70115.  \nWe will be looking for help in the kitchen on this Saturday; therefore we can use any and all talents such as Cooks\, Servers and Cleaners.  Let us know how you can help.
URL:https://www.centralstmatthewucc.com/event/csm-mens-fellowship-gathering/
LOCATION:St. Paul United Church of Christ\, 600 Eleonore Street\, New Orleans\, LA\, 70115\, United States
CATEGORIES:Community
ORGANIZER;CN="Al Eickelmann":MAILTO:allan.eickelmann@usm.edu
END:VEVENT
END:VCALENDAR