BEGIN:VCALENDAR
VERSION:2.0
PRODID:-//Central St. Matthew UCC, New Orleans LA - ECPv6.15.20//NONSGML v1.0//EN
CALSCALE:GREGORIAN
METHOD:PUBLISH
X-WR-CALNAME:Central St. Matthew UCC, New Orleans LA
X-ORIGINAL-URL:https://www.centralstmatthewucc.com
X-WR-CALDESC:Events for Central St. Matthew UCC, New Orleans LA
REFRESH-INTERVAL;VALUE=DURATION:PT1H
X-Robots-Tag:noindex
X-PUBLISHED-TTL:PT1H
BEGIN:VTIMEZONE
TZID:America/Chicago
BEGIN:DAYLIGHT
TZOFFSETFROM:-0600
TZOFFSETTO:-0500
TZNAME:CDT
DTSTART:20150308T080000
END:DAYLIGHT
BEGIN:STANDARD
TZOFFSETFROM:-0500
TZOFFSETTO:-0600
TZNAME:CST
DTSTART:20151101T070000
END:STANDARD
BEGIN:DAYLIGHT
TZOFFSETFROM:-0600
TZOFFSETTO:-0500
TZNAME:CDT
DTSTART:20160313T080000
END:DAYLIGHT
BEGIN:STANDARD
TZOFFSETFROM:-0500
TZOFFSETTO:-0600
TZNAME:CST
DTSTART:20161106T070000
END:STANDARD
BEGIN:DAYLIGHT
TZOFFSETFROM:-0600
TZOFFSETTO:-0500
TZNAME:CDT
DTSTART:20170312T080000
END:DAYLIGHT
BEGIN:STANDARD
TZOFFSETFROM:-0500
TZOFFSETTO:-0600
TZNAME:CST
DTSTART:20171105T070000
END:STANDARD
BEGIN:DAYLIGHT
TZOFFSETFROM:-0600
TZOFFSETTO:-0500
TZNAME:CDT
DTSTART:20180311T080000
END:DAYLIGHT
BEGIN:STANDARD
TZOFFSETFROM:-0500
TZOFFSETTO:-0600
TZNAME:CST
DTSTART:20181104T070000
END:STANDARD
END:VTIMEZONE
BEGIN:VEVENT
DTSTART;TZID=America/Chicago:20171209T090000
DTEND;TZID=America/Chicago:20171209T150000
DTSTAMP:20260422T172755
CREATED:20171119T215635Z
LAST-MODIFIED:20171130T034226Z
UID:4683-1512810000-1512831600@www.centralstmatthewucc.com
SUMMARY:Christmas Workshop for Kids
DESCRIPTION:SATURDAY DECEMBER 9th\n9am-3pm\nGrades K-6\nCrafts/Stories/Music/Games/Lunch\n$5 per child\n(Parent’s day out!) \nCSM is pleased to offer a Christmas workshop for children in Kindergarten through 6th grade. The day will consist of seasonal stories\, related crafts\, music\, games\, lunch\, and will end with caroling and decorating the church tree. \nIt will be a fun day for the kids and give you busy parents a day to take some of your holiday chores. We have a limited number of spaces so sign up as soon as you can.\nWe are looking forward to a great time for all!!
URL:https://www.centralstmatthewucc.com/event/christmas-workshop-for-kids/
LOCATION:CSM 1333 S. Carrollton Ave\, 1333 S. Carrollton Ave.\, New Orleans\, LA\, 70118\, United States
CATEGORIES:Holiday Camp
ATTACH;FMTTYPE=image/jpeg:https://www.centralstmatthewucc.com/wp-content/uploads/2017/11/23754729_10212883901224754_1191656459115566615_n.jpg
END:VEVENT
BEGIN:VEVENT
DTSTART;TZID=America/Chicago:20170616T100000
DTEND;TZID=America/Chicago:20170616T160000
DTSTAMP:20260422T172755
CREATED:20170510T155520Z
LAST-MODIFIED:20170510T155520Z
UID:4554-1497607200-1497628800@www.centralstmatthewucc.com
SUMMARY:2017 Vacation Bible Camp
DESCRIPTION:Central St. Matthew United Church of Christ is pleased to offer a weeklong vacation Bible Camp for children entering kindergarten through those who will be entering 6th grade.  We have built a character building curriculum which uses children’s literature as well as Bible stories to illustrate the ideals of loving each other\, the joy in appreciating what one has and the importance of helping others.  The morning program is at no charge and will include puzzles\, crafts\, music\, games and snacks.  We are also offering an aftercare program from noon till 3 pm for a fee which will provide lunch\, a movie and activities.  We have a limited number of spaces so sign up as soon as you can.  It is always a great time!
URL:https://www.centralstmatthewucc.com/event/2017-vacation-bible-camp-4/
LOCATION:LA
CATEGORIES:Holiday Camp
END:VEVENT
BEGIN:VEVENT
DTSTART;TZID=America/Chicago:20170615T100000
DTEND;TZID=America/Chicago:20170615T160000
DTSTAMP:20260422T172755
CREATED:20170510T155420Z
LAST-MODIFIED:20170510T155420Z
UID:4552-1497520800-1497542400@www.centralstmatthewucc.com
SUMMARY:2017 Vacation Bible Camp
DESCRIPTION:Central St. Matthew United Church of Christ is pleased to offer a weeklong vacation Bible Camp for children entering kindergarten through those who will be entering 6th grade.  We have built a character building curriculum which uses children’s literature as well as Bible stories to illustrate the ideals of loving each other\, the joy in appreciating what one has and the importance of helping others.  The morning program is at no charge and will include puzzles\, crafts\, music\, games and snacks.  We are also offering an aftercare program from noon till 3 pm for a fee which will provide lunch\, a movie and activities.  We have a limited number of spaces so sign up as soon as you can.  It is always a great time!
URL:https://www.centralstmatthewucc.com/event/2017-vacation-bible-camp-3/
LOCATION:LA
CATEGORIES:Holiday Camp
END:VEVENT
BEGIN:VEVENT
DTSTART;TZID=America/Chicago:20170614T100000
DTEND;TZID=America/Chicago:20170614T160000
DTSTAMP:20260422T172755
CREATED:20170510T155308Z
LAST-MODIFIED:20170510T155308Z
UID:4550-1497434400-1497456000@www.centralstmatthewucc.com
SUMMARY:2017 Vacation Bible Camp
DESCRIPTION:Central St. Matthew United Church of Christ is pleased to offer a weeklong vacation Bible Camp for children entering kindergarten through those who will be entering 6th grade.  We have built a character building curriculum which uses children’s literature as well as Bible stories to illustrate the ideals of loving each other\, the joy in appreciating what one has and the importance of helping others.  The morning program is at no charge and will include puzzles\, crafts\, music\, games and snacks.  We are also offering an aftercare program from noon till 3 pm for a fee which will provide lunch\, a movie and activities.  We have a limited number of spaces so sign up as soon as you can.  It is always a great time!
URL:https://www.centralstmatthewucc.com/event/2017-vacation-bible-camp-2/
LOCATION:LA
CATEGORIES:Holiday Camp
END:VEVENT
BEGIN:VEVENT
DTSTART;TZID=America/Chicago:20170613T100000
DTEND;TZID=America/Chicago:20170613T160000
DTSTAMP:20260422T172755
CREATED:20170510T155125Z
LAST-MODIFIED:20170510T155847Z
UID:4548-1497348000-1497369600@www.centralstmatthewucc.com
SUMMARY:2017 Vacation Bible Camp
DESCRIPTION:Central St. Matthew United Church of Christ is pleased to offer a weeklong vacation Bible Camp for children entering kindergarten through those who will be entering 6th grade.  We have built a character building curriculum which uses children’s literature as well as Bible stories to illustrate the ideals of loving each other\, the joy in appreciating what one has and the importance of helping others.  The morning program is at no charge and will include puzzles\, crafts\, music\, games and snacks.  We are also offering an aftercare program from noon till 3 pm for a fee which will provide lunch\, a movie and activities.  We have a limited number of spaces so sign up as soon as you can.  It is always a great time!
URL:https://www.centralstmatthewucc.com/event/2017-vacation-bible-camp/
LOCATION:LA
CATEGORIES:Holiday Camp
END:VEVENT
BEGIN:VEVENT
DTSTART;TZID=America/Chicago:20170612T100000
DTEND;TZID=America/Chicago:20170612T160000
DTSTAMP:20260422T172755
CREATED:20170510T154520Z
LAST-MODIFIED:20170511T130202Z
UID:4544-1497261600-1497283200@www.centralstmatthewucc.com
SUMMARY:2017 Vacation Bible Camp
DESCRIPTION:Central St. Matthew United Church of Christ is pleased to offer a weeklong vacation Bible Camp from June 12  till June 16 for children entering kindergarten through those who will be entering 6th grade.  We have built a character building curriculum which uses children’s literature as well as Bible stories to illustrate the ideals of loving each other\, the joy in appreciating what one has and the importance of helping others.  The morning program is at no charge and will include puzzles\, crafts\, music\, games and snacks.  We are also offering an aftercare program from noon till 3 pm for a fee which will provide lunch\, a movie and activities.  We have a limited number of spaces so sign up as soon as you can.  It is always a great time! \nRegistration Form Here
URL:https://www.centralstmatthewucc.com/event/2017-summer-vacation-camp/
LOCATION:CSM 1333 S. Carrollton Ave\, 1333 S. Carrollton Ave.\, New Orleans\, LA\, 70118\, United States
CATEGORIES:Holiday Camp
END:VEVENT
BEGIN:VEVENT
DTSTART;VALUE=DATE:20170607
DTEND;VALUE=DATE:20170609
DTSTAMP:20260422T172755
CREATED:20170510T183650Z
LAST-MODIFIED:20170510T183759Z
UID:4558-1496797200-1496883599@www.centralstmatthewucc.com
SUMMARY:Deadline to register for Vacation Bible Camp
DESCRIPTION:Central St. Matthew United Church of Christ is pleased to offer a weeklong vacation Bible Camp from June 12  till June 16 for children entering kindergarten through those who will be entering 6th grade.  We have built a character building curriculum which uses children’s literature as well as Bible stories to illustrate the ideals of loving each other\, the joy in appreciating what one has and the importance of helping others.  The morning program is at no charge and will include puzzles\, crafts\, music\, games and snacks.  We are also offering an aftercare program from noon till 3 pm for a fee which will provide lunch\, a movie and activities.  We have a limited number of spaces so sign up as soon as you can.  It is always a great time! \nRegistration Form Here
URL:https://www.centralstmatthewucc.com/event/deadline-for-vacation-bible-camp/
LOCATION:CSM 1333 S. Carrollton Ave\, 1333 S. Carrollton Ave.\, New Orleans\, LA\, 70118\, United States
CATEGORIES:Holiday Camp
END:VEVENT
BEGIN:VEVENT
DTSTART;TZID=America/Chicago:20161230T090000
DTEND;TZID=America/Chicago:20161230T170000
DTSTAMP:20260422T172755
CREATED:20161207T053133Z
LAST-MODIFIED:20161222T050858Z
UID:4359-1483088400-1483117200@www.centralstmatthewucc.com
SUMMARY:Holiday Camp 2016
DESCRIPTION:For children now enrolled in Kindergarten – 6th grade\nStories/Crafts/Music/ Games –\n9 am – noon – no charge\nAfter Care – Lunch/Movie/Activities – Noon – 3 pm\n$10 per child/day – $5 each additional child in the family\n\n\n\n\nCentral St. Matthew United Church of Christ\n1333 S. Carrollton Avenue\nNew Orleans\, LA 70118\n\n\n\nCentral St. Matthew United Church of Christ is pleased to offer a Holiday Camp during the 2016 Christmas break. The curriculum will include a study of Christmas stories which stress the meaning of the Christmas season\, illustrating the ideas of loving\, giving\, and sharing with each other. The morning program is at no charge and will include puzzles\, crafts\, music\, games and snacks. We are also offering an aftercare program from noon till 3 pm for a fee which will provide lunch\, a movie and activities. We have a limited number of spaces so sign up as soon as you can. It is always a great time!\n\nDeadline for registration is Sunday morning\, December 25.\n\n\n\nClick Here to Download and Print the Registration Form\n\n\n\n\nReturn Registration Form To:\n\n[content_boxes layout=”clean-horizontal” columns=”2″ icon_align=”left” title_size=”” backgroundcolor=”#c5db95″ icon_circle=”fff” icon_circle_radius=”” iconcolor=”#fff” circlecolor=”#f1c40f” circlebordercolor=”#fff” circlebordercolorsize=”” outercirclebordercolor=”” outercirclebordercolorsize=”” icon_size=”” link_type=”” link_area=”” animation_delay=”” animation_offset=”” animation_type=”0″ animation_direction=”down” animation_speed=”0.1″ margin_top=”” margin_bottom=”” class=”” id=””]\n[content_box title=”Mail Registration Form To:” icon=”” backgroundcolor=”” iconcolor=”” circlecolor=”#f1c40f” circlebordercolor=”#fff” circlebordercolorsize=”” outercirclebordercolor=”” outercirclebordercolorsize=”” iconrotate=”” iconspin=”no” image=”” image_width=”35″ image_height=”35″ link=”” linktarget=”_self” linktext=”” animation_type=”0″ animation_direction=”down” animation_speed=”0.1″]Central St. Matthew UCC -Camp 1333 S. Carrollton Avenue New Orleans\, LA 70118 [/content_box]\n[content_box title=”OR Scan and Email to:” icon=”” backgroundcolor=”” iconcolor=”#fff” circlecolor=”#f1c40f” circlebordercolor=”” circlebordercolorsize=”” outercirclebordercolor=”#fff” outercirclebordercolorsize=”” iconrotate=”” iconspin=”no” image=”” image_width=”35″ image_height=”35″ link=”” linktarget=”_self” linktext=”” animation_type=”0″ animation_direction=”down” animation_speed=”0.1″]office@centralstmatthewucc.com with subject line: Holiday Camp[/content_box]\n[/content_boxes]
URL:https://www.centralstmatthewucc.com/event/holiday-camp-2016-3/
LOCATION:CSM 1333 S. Carrollton Ave\, 1333 S. Carrollton Ave.\, New Orleans\, LA\, 70118\, United States
CATEGORIES:Holiday Camp
ATTACH;FMTTYPE=image/jpeg:https://www.centralstmatthewucc.com/wp-content/uploads/2016/12/three-trees-e1481086850364.jpg
END:VEVENT
BEGIN:VEVENT
DTSTART;TZID=America/Chicago:20161229T090000
DTEND;TZID=America/Chicago:20161229T170000
DTSTAMP:20260422T172755
CREATED:20161207T052958Z
LAST-MODIFIED:20161222T050834Z
UID:4357-1483002000-1483030800@www.centralstmatthewucc.com
SUMMARY:Holidy Camp 2016
DESCRIPTION:For children now enrolled in Kindergarten – 6th grade\nStories/Crafts/Music/ Games –\n9 am – noon – no charge\nAfter Care – Lunch/Movie/Activities – Noon – 3 pm\n$10 per child/day – $5 each additional child in the family\n\n\n\n\nCentral St. Matthew United Church of Christ\n1333 S. Carrollton Avenue\nNew Orleans\, LA 70118\n\n\n\nCentral St. Matthew United Church of Christ is pleased to offer a Holiday Camp during the 2016 Christmas break. The curriculum will include a study of Christmas stories which stress the meaning of the Christmas season\, illustrating the ideas of loving\, giving\, and sharing with each other. The morning program is at no charge and will include puzzles\, crafts\, music\, games and snacks. We are also offering an aftercare program from noon till 3 pm for a fee which will provide lunch\, a movie and activities. We have a limited number of spaces so sign up as soon as you can. It is always a great time!\n\nDeadline for registration is Sunday morning\, December 25.\n\n\n\nClick Here to Download and Print the Registration Form\n\n\n\n\nReturn Registration Form To:\n\n[content_boxes layout=”clean-horizontal” columns=”2″ icon_align=”left” title_size=”” backgroundcolor=”#c5db95″ icon_circle=”fff” icon_circle_radius=”” iconcolor=”#fff” circlecolor=”#f1c40f” circlebordercolor=”#fff” circlebordercolorsize=”” outercirclebordercolor=”” outercirclebordercolorsize=”” icon_size=”” link_type=”” link_area=”” animation_delay=”” animation_offset=”” animation_type=”0″ animation_direction=”down” animation_speed=”0.1″ margin_top=”” margin_bottom=”” class=”” id=””]\n[content_box title=”Mail Registration Form To:” icon=”” backgroundcolor=”” iconcolor=”” circlecolor=”#f1c40f” circlebordercolor=”#fff” circlebordercolorsize=”” outercirclebordercolor=”” outercirclebordercolorsize=”” iconrotate=”” iconspin=”no” image=”” image_width=”35″ image_height=”35″ link=”” linktarget=”_self” linktext=”” animation_type=”0″ animation_direction=”down” animation_speed=”0.1″]Central St. Matthew UCC -Camp 1333 S. Carrollton Avenue New Orleans\, LA 70118 [/content_box]\n[content_box title=”OR Scan and Email to:” icon=”” backgroundcolor=”” iconcolor=”#fff” circlecolor=”#f1c40f” circlebordercolor=”” circlebordercolorsize=”” outercirclebordercolor=”#fff” outercirclebordercolorsize=”” iconrotate=”” iconspin=”no” image=”” image_width=”35″ image_height=”35″ link=”” linktarget=”_self” linktext=”” animation_type=”0″ animation_direction=”down” animation_speed=”0.1″]office@centralstmatthewucc.com with subject line: Holiday Camp[/content_box]\n[/content_boxes]
URL:https://www.centralstmatthewucc.com/event/holidy-camp-2016/
LOCATION:CSM 1333 S. Carrollton Ave\, 1333 S. Carrollton Ave.\, New Orleans\, LA\, 70118\, United States
CATEGORIES:Holiday Camp
ATTACH;FMTTYPE=image/jpeg:https://www.centralstmatthewucc.com/wp-content/uploads/2016/12/three-trees-e1481086850364.jpg
END:VEVENT
BEGIN:VEVENT
DTSTART;TZID=America/Chicago:20161228T090000
DTEND;TZID=America/Chicago:20161228T150000
DTSTAMP:20260422T172755
CREATED:20161207T052759Z
LAST-MODIFIED:20161222T050703Z
UID:4355-1482915600-1482937200@www.centralstmatthewucc.com
SUMMARY:Holiday Camp 2016
DESCRIPTION:For children now enrolled in Kindergarten – 6th grade\nStories/Crafts/Music/ Games –\n9 am – noon – no charge\nAfter Care – Lunch/Movie/Activities – Noon – 3 pm\n$10 per child/day – $5 each additional child in the family\n\n\n\n\nCentral St. Matthew United Church of Christ\n1333 S. Carrollton Avenue\nNew Orleans\, LA 70118\n\n\n\nCentral St. Matthew United Church of Christ is pleased to offer a Holiday Camp during the 2016 Christmas break. The curriculum will include a study of Christmas stories which stress the meaning of the Christmas season\, illustrating the ideas of loving\, giving\, and sharing with each other. The morning program is at no charge and will include puzzles\, crafts\, music\, games and snacks. We are also offering an aftercare program from noon till 3 pm for a fee which will provide lunch\, a movie and activities. We have a limited number of spaces so sign up as soon as you can. It is always a great time!\n\nDeadline for registration is Sunday morning\, December 25.\n\n\n\nClick Here to Download and Print the Registration Form\n\n\n\n\nReturn Registration Form To:\n\n[content_boxes layout=”clean-horizontal” columns=”2″ icon_align=”left” title_size=”” backgroundcolor=”#c5db95″ icon_circle=”fff” icon_circle_radius=”” iconcolor=”#fff” circlecolor=”#f1c40f” circlebordercolor=”#fff” circlebordercolorsize=”” outercirclebordercolor=”” outercirclebordercolorsize=”” icon_size=”” link_type=”” link_area=”” animation_delay=”” animation_offset=”” animation_type=”0″ animation_direction=”down” animation_speed=”0.1″ margin_top=”” margin_bottom=”” class=”” id=””]\n[content_box title=”Mail Registration Form To:” icon=”” backgroundcolor=”” iconcolor=”” circlecolor=”#f1c40f” circlebordercolor=”#fff” circlebordercolorsize=”” outercirclebordercolor=”” outercirclebordercolorsize=”” iconrotate=”” iconspin=”no” image=”” image_width=”35″ image_height=”35″ link=”” linktarget=”_self” linktext=”” animation_type=”0″ animation_direction=”down” animation_speed=”0.1″]Central St. Matthew UCC -Camp 1333 S. Carrollton Avenue New Orleans\, LA 70118 [/content_box]\n[content_box title=”OR Scan and Email to:” icon=”” backgroundcolor=”” iconcolor=”#fff” circlecolor=”#f1c40f” circlebordercolor=”” circlebordercolorsize=”” outercirclebordercolor=”#fff” outercirclebordercolorsize=”” iconrotate=”” iconspin=”no” image=”” image_width=”35″ image_height=”35″ link=”” linktarget=”_self” linktext=”” animation_type=”0″ animation_direction=”down” animation_speed=”0.1″]office@centralstmatthewucc.com with subject line: Holiday Camp[/content_box]\n[/content_boxes]
URL:https://www.centralstmatthewucc.com/event/holiday-camp-2016-2/
LOCATION:CSM 1333 S. Carrollton Ave\, 1333 S. Carrollton Ave.\, New Orleans\, LA\, 70118\, United States
CATEGORIES:Holiday Camp
ATTACH;FMTTYPE=image/jpeg:https://www.centralstmatthewucc.com/wp-content/uploads/2016/12/three-trees-e1481086850364.jpg
END:VEVENT
BEGIN:VEVENT
DTSTART;TZID=America/Chicago:20161227T090000
DTEND;TZID=America/Chicago:20161227T150000
DTSTAMP:20260422T172755
CREATED:20161207T052510Z
LAST-MODIFIED:20161222T050600Z
UID:4329-1482829200-1482850800@www.centralstmatthewucc.com
SUMMARY:Holiday Camp 2016
DESCRIPTION:For children now enrolled in Kindergarten – 6th grade\nStories/Crafts/Music/ Games –\n9 am – noon – no charge\nAfter Care – Lunch/Movie/Activities – Noon – 3 pm\n$10 per child/day – $5 each additional child in the family\n\n\n\n\nCentral St. Matthew United Church of Christ\n1333 S. Carrollton Avenue\nNew Orleans\, LA 70118\n\n\n\nCentral St. Matthew United Church of Christ is pleased to offer a Holiday Camp during the 2016 Christmas break. The curriculum will include a study of Christmas stories which stress the meaning of the Christmas season\, illustrating the ideas of loving\, giving\, and sharing with each other. The morning program is at no charge and will include puzzles\, crafts\, music\, games and snacks. We are also offering an aftercare program from noon till 3 pm for a fee which will provide lunch\, a movie and activities. We have a limited number of spaces so sign up as soon as you can. It is always a great time!\n\nDeadline for registration is Sunday morning\, December 25.\n\n\n\nClick Here to Download and Print the Registration Form\n\n\n\n\nReturn Registration Form To:\n\n[content_boxes layout=”clean-horizontal” columns=”2″ icon_align=”left” title_size=”” backgroundcolor=”#c5db95″ icon_circle=”fff” icon_circle_radius=”” iconcolor=”#fff” circlecolor=”#f1c40f” circlebordercolor=”#fff” circlebordercolorsize=”” outercirclebordercolor=”” outercirclebordercolorsize=”” icon_size=”” link_type=”” link_area=”” animation_delay=”” animation_offset=”” animation_type=”0″ animation_direction=”down” animation_speed=”0.1″ margin_top=”” margin_bottom=”” class=”” id=””]\n[content_box title=”Mail Registration Form To:” icon=”” backgroundcolor=”” iconcolor=”” circlecolor=”#f1c40f” circlebordercolor=”#fff” circlebordercolorsize=”” outercirclebordercolor=”” outercirclebordercolorsize=”” iconrotate=”” iconspin=”no” image=”” image_width=”35″ image_height=”35″ link=”” linktarget=”_self” linktext=”” animation_type=”0″ animation_direction=”down” animation_speed=”0.1″]Central St. Matthew UCC -Camp 1333 S. Carrollton Avenue New Orleans\, LA 70118 [/content_box]\n[content_box title=”OR Scan and Email to:” icon=”” backgroundcolor=”” iconcolor=”#fff” circlecolor=”#f1c40f” circlebordercolor=”” circlebordercolorsize=”” outercirclebordercolor=”#fff” outercirclebordercolorsize=”” iconrotate=”” iconspin=”no” image=”” image_width=”35″ image_height=”35″ link=”” linktarget=”_self” linktext=”” animation_type=”0″ animation_direction=”down” animation_speed=”0.1″]office@centralstmatthewucc.com with subject line: Holiday Camp[/content_box]\n[/content_boxes]
URL:https://www.centralstmatthewucc.com/event/holiday-camp-2016/
LOCATION:CSM 1333 S. Carrollton Ave\, 1333 S. Carrollton Ave.\, New Orleans\, LA\, 70118\, United States
CATEGORIES:Holiday Camp
ATTACH;FMTTYPE=image/jpeg:https://www.centralstmatthewucc.com/wp-content/uploads/2016/12/three-trees-e1481086850364.jpg
ORGANIZER;CN="":MAILTO:office@centralstmatthewucc.com
END:VEVENT
END:VCALENDAR